BEGIN:VCALENDAR
VERSION:2.0
PRODID:-//Squarespace Inc/Squarespace 6//v6//EN
BEGIN:VEVENT
UID:572bd2d4b654f95c0055f7c7@squarespace.com
DTSTAMP:20160506T001641Z
DTSTART:20160506T070000Z
DTEND:20161231T073000Z
SUMMARY:Members Only Happy Hour!
END:VEVENT
END:VCALENDAR
