BEGIN:VCALENDAR
VERSION:2.0
PRODID:-//Squarespace Inc/Squarespace 6//v6//EN
BEGIN:VEVENT
UID:5b474c0a6d2a7331419fada3@squarespace.com
DTSTAMP:20180804T011459Z
DTSTART:20180905T090000Z
DTEND:20180905T120000Z
SUMMARY:Sex and the City Trivia
GEO:-33.891884;151.214145
LOCATION:Bar Cleveland\, 433 Cleveland Street\, Redfern\, NSW\, 2016\, Aust
 ralia
END:VEVENT
END:VCALENDAR
