BEGIN:VCALENDAR
VERSION:2.0
PRODID:-//Squarespace Inc/Squarespace 6//v6//EN
BEGIN:VEVENT
UID:5ad589946d2a73821b5c80f4@squarespace.com
DTSTAMP:20180515T084243Z
DTSTART:20180519T090000Z
DTEND:20180519T160000Z
SUMMARY:Royal Wedding
GEO:-33.891884;151.214145
LOCATION:Bar Cleveland\, 433 Cleveland Street\, Redfern\, NSW\, 2016\, Aust
 ralia
END:VEVENT
END:VCALENDAR
