BEGIN:VCALENDAR
VERSION:2.0
PRODID:-//Squarespace Inc/Squarespace 6//v6//EN
BEGIN:VEVENT
UID:5ad585422b6a288e32ae55f4@squarespace.com
DTSTAMP:20180417T062429Z
DTSTART:20180513T000000Z
DTEND:20180513T120000Z
SUMMARY:Mother's Day
GEO:-33.891884;151.214145
LOCATION:Bar Cleveland\, 433 Cleveland Street\, Redfern\, NSW\, 2016\, Aust
 ralia
END:VEVENT
END:VCALENDAR
