BEGIN:VCALENDAR
VERSION:2.0
PRODID:-//Squarespace Inc/Squarespace 6//v6//EN
BEGIN:VEVENT
UID:5ba5930e53450a4c371a3f99@squarespace.com
DTSTAMP:20180924T092549Z
DTSTART:20181106T010000Z
DTEND:20181106T070000Z
SUMMARY:Melbourne Cup 2018
GEO:-33.891884;151.214145
LOCATION:Bar Cleveland\, 433 Cleveland Street\, Redfern\, NSW\, 2016\, Aust
 ralia
END:VEVENT
END:VCALENDAR
