BEGIN:VCALENDAR
VERSION:2.0
PRODID:-//Squarespace Inc/Squarespace 6//v6//EN
BEGIN:VEVENT
UID:5c33645f21c67cd2741b0bc5@squarespace.com
DTSTAMP:20190216T100259Z
DTSTART:20190306T083000Z
DTEND:20190306T110000Z
SUMMARY:Game of Thrones Trivia
GEO:-33.891884;151.214145
LOCATION:Bar Cleveland\, 433 Cleveland St\, Redfern\, Australia
END:VEVENT
END:VCALENDAR
