BEGIN:VCALENDAR
VERSION:2.0
PRODID:-//Squarespace Inc/Squarespace 6//v6//EN
BEGIN:VEVENT
UID:5ad58e58aa4a998ab11b6d39@squarespace.com
DTSTAMP:20180614T034917Z
DTSTART:20180606T093000Z
DTEND:20180606T113000Z
SUMMARY:Friends Trivia
GEO:-33.891884;151.214145
LOCATION:Bar Cleveland\, 433 Cleveland Street\, Redfern\, NSW\, 2016\, Aust
 ralia
END:VEVENT
END:VCALENDAR
