BEGIN:VCALENDAR
VERSION:2.0
PRODID:-//Squarespace Inc/Squarespace 6//v6//EN
BEGIN:VEVENT
UID:5b36d6eb2b6a280422d95af1@squarespace.com
DTSTAMP:20180630T011654Z
DTSTART:20180707T080000Z
DTEND:20180707T153000Z
SUMMARY:Frequency Trancadelic
GEO:-33.891884;151.214145
LOCATION:Bar Cleveland\, 433 Cleveland Street\, Redfern\, NSW\, 2016\, Aust
 ralia
END:VEVENT
END:VCALENDAR
