BEGIN:VCALENDAR
VERSION:2.0
PRODID:-//Squarespace Inc/Squarespace 6//v6//EN
BEGIN:VEVENT
UID:5ba5a7eeec212d69b8404186@squarespace.com
DTSTAMP:20181107T091045Z
DTSTART:20181205T080000Z
DTEND:20181205T110000Z
SUMMARY:Disney Trivia
GEO:-33.891762;151.214183
LOCATION:Bar Cleveland\, 433 Cleveland Street\, Redfern\, NSW\, 2016\, Aust
 ralia
END:VEVENT
END:VCALENDAR
