BEGIN:VCALENDAR
VERSION:2.0
PRODID:-//Squarespace Inc/Squarespace 6//v6//EN
BEGIN:VEVENT
UID:5ad5826d2b6a288e32ae0280@squarespace.com
DTSTAMP:20180417T052453Z
DTSTART:20180425T010000Z
DTEND:20180425T135900Z
SUMMARY:ANZAC Day
GEO:-33.891884;151.214145
LOCATION:Bar Cleveland\, 433 Cleveland Street\, Redfern\, NSW\, 2016\, Aust
 ralia
END:VEVENT
END:VCALENDAR
