BEGIN:VCALENDAR
VERSION:2.0
PRODID:-//Squarespace Inc/Squarespace 6//v6//EN
BEGIN:VEVENT
UID:5e3646ec12c5156ca62488c7@squarespace.com
DTSTAMP:20200202T035057Z
DTSTART:20200229T100000Z
DTEND:20200229T160000Z
SUMMARY:MARDI GRAS FREE AFTERPARTY
END:VEVENT
END:VCALENDAR
