BEGIN:VCALENDAR
VERSION:2.0
PRODID:-//Squarespace Inc/Squarespace 6//v6//EN
BEGIN:VEVENT
UID:5e4a31b083fe885c775b372f@squarespace.com
DTSTAMP:20200217T063257Z
DTSTART:20200314T100000Z
DTEND:20200314T160000Z
SUMMARY:Cleveland St - Ft. Aidan Bega
END:VEVENT
END:VCALENDAR
