BEGIN:VCALENDAR
VERSION:2.0
PRODID:-//Squarespace Inc/Squarespace 6//v6//EN
BEGIN:VEVENT
UID:5e2d46466db1421c547b5509@squarespace.com
DTSTAMP:20200126T080756Z
DTSTART:20200304T083000Z
DTEND:20200304T123000Z
SUMMARY:Los Simpsons Trivia
END:VEVENT
END:VCALENDAR
