BEGIN:VCALENDAR
VERSION:2.0
PRODID:-//Squarespace Inc/Squarespace 6//v6//EN
BEGIN:VEVENT
UID:5d46b18853ea2800011425be@squarespace.com
DTSTAMP:20190819T095736Z
DTSTART:20190907T010000Z
DTEND:20190907T030000Z
SUMMARY:Fresh Flower Crown Workshop
END:VEVENT
END:VCALENDAR
