BEGIN:VCALENDAR
VERSION:2.0
PRODID:-//Squarespace Inc/Squarespace 6//v6//EN
BEGIN:VEVENT
UID:5d78cb576081f768c65555b5@squarespace.com
DTSTAMP:20190911T102836Z
DTSTART:20191204T083000Z
DTEND:20191204T113000Z
SUMMARY:The Ricks must be Mortys Theme Trivia
END:VEVENT
END:VCALENDAR
