BEGIN:VCALENDAR
VERSION:2.0
PRODID:-//Squarespace Inc/Squarespace 6//v6//EN
BEGIN:VEVENT
UID:5d47dfe5f352bf000138632e@squarespace.com
DTSTAMP:20190819T095700Z
DTSTART:20190805T020000Z
DTEND:20190929T100000Z
SUMMARY:Buckshot Tournament 2019
END:VEVENT
END:VCALENDAR
