BEGIN:VCALENDAR
VERSION:2.0
PRODID:-//Squarespace Inc/Squarespace 6//v6//EN
BEGIN:VEVENT
UID:5c8754f81905f4dea81d831b@squarespace.com
DTSTAMP:20190312T070405Z
DTSTART:20190330T090000Z
DTEND:20190330T150000Z
SUMMARY:Frequency - 7 Deadly Sins
END:VEVENT
END:VCALENDAR
