BEGIN:VCALENDAR
VERSION:2.0
PRODID:-//Squarespace Inc/Squarespace 6//v6//EN
BEGIN:VEVENT
UID:5c67cf8171c10bf899635ccc@squarespace.com
DTSTAMP:20190216T085927Z
DTSTART:20190302T090000Z
DTEND:20190302T160000Z
SUMMARY:MARDI GRAS AFTERPARTY
END:VEVENT
END:VCALENDAR
