BEGIN:VCALENDAR
VERSION:2.0
PRODID:-//Squarespace Inc/Squarespace 6//v6//EN
BEGIN:VEVENT
UID:5c8f5b3ffa0d605b84f3b320@squarespace.com
DTSTAMP:20190403T111810Z
DTSTART:20190415T000000Z
DTEND:20190422T120000Z
SUMMARY:EASTER EGG HUNT
END:VEVENT
END:VCALENDAR
