BEGIN:VCALENDAR
VERSION:2.0
PRODID:-//Squarespace Inc/Squarespace 6//v6//EN
BEGIN:VEVENT
UID:5d5d6cbd9c8a6700010ea15c@squarespace.com
DTSTAMP:20190822T084354Z
DTSTART:20191105T003000Z
DTEND:20191105T133000Z
SUMMARY:Melbourne Cup 2019
GEO:-33.891884;151.214145
LOCATION:Bar Cleveland\, 433 Cleveland St\,\, Sydney\, Australia
END:VEVENT
END:VCALENDAR
