BEGIN:VCALENDAR
VERSION:2.0
PRODID:-//Squarespace Inc/Squarespace 6//v6//EN
BEGIN:VEVENT
UID:5da6ab7dd269d15bfc99cea1@squarespace.com
DTSTAMP:20191016T233131Z
DTSTART:20191102T080000Z
DTEND:20191102T130000Z
SUMMARY:Nightmare on Cleveland Street
END:VEVENT
END:VCALENDAR
