BEGIN:VCALENDAR
VERSION:2.0
PRODID:-//Squarespace Inc/Squarespace 6//v6//EN
BEGIN:VEVENT
UID:5c25c36b575d1fe24b95d198@squarespace.com
DTSTAMP:20181228T064350Z
DTSTART:20190102T230000Z
DTEND:20190107T070000Z
SUMMARY:Pink Up
END:VEVENT
END:VCALENDAR
