BEGIN:VCALENDAR
VERSION:2.0
PRODID:-//Squarespace Inc/Squarespace 6//v6//EN
BEGIN:VEVENT
UID:5b4398622b6a284a322ca38f@squarespace.com
DTSTAMP:20180709T171906Z
DTSTART:20180715T133000Z
DTEND:20180715T180000Z
SUMMARY:FIFA World Cup Final
GEO:-33.891884;151.214145
LOCATION:Bar Cleveland\, 433 Cleveland Street\, Redfern\, NSW\, 2016\, Aust
 ralia
END:VEVENT
END:VCALENDAR
