BEGIN:VCALENDAR
VERSION:2.0
PRODID:-//Squarespace Inc/Squarespace 6//v6//EN
BEGIN:VEVENT
UID:5a502ae9e4966ba79ad43dd7@squarespace.com
DTSTAMP:20180106T033952Z
DTSTART:20180125T140000Z
DTEND:20180126T150000Z
SUMMARY:Australia Day
GEO:-33.891873;151.214147
LOCATION:Bar Cleveland\, 433 Cleveland Street\, Surry Hills NSW 2010\, Aust
 ralia
END:VEVENT
END:VCALENDAR
