BEGIN:VCALENDAR
VERSION:2.0
PRODID:-//Squarespace Inc/Squarespace 6//v6//EN
BEGIN:VEVENT
UID:58ec5d9959cc6813aa8f0173@squarespace.com
DTSTAMP:20170411T044442Z
DTSTART:20170420T073000Z
DTEND:20170420T170000Z
SUMMARY:Celebrating 30 years of our Bar Cleveland Family!
END:VEVENT
END:VCALENDAR
