BEGIN:VCALENDAR
VERSION:2.0
PRODID:-//Squarespace Inc/Squarespace 6//v6//EN
BEGIN:VEVENT
UID:58758890db29d6ab1b3769be@squarespace.com
DTSTAMP:20170111T015522Z
DTSTART:20170125T230000Z
DTEND:20170126T160000Z
SUMMARY:Australia Day
GEO:-33.891884;151.214145
LOCATION:Bar Cleveland\, 433 Cleveland Street\, Redfern\, NSW\, 2016\, Aust
 ralia
END:VEVENT
END:VCALENDAR
