BEGIN:VCALENDAR
VERSION:2.0
PRODID:-//Squarespace Inc/Squarespace 6//v6//EN
BEGIN:VEVENT
UID:569f11eafb36b1c246f4cb36@squarespace.com
DTSTAMP:20160415T082035Z
DTSTART:20160425T000000Z
DTEND:20160425T150000Z
SUMMARY:ANZAC DAY
END:VEVENT
END:VCALENDAR
