BEGIN:VCALENDAR
VERSION:2.0
PRODID:-//Squarespace Inc/Squarespace 6//v6//EN
BEGIN:VEVENT
UID:580dc1f31b631b2835035734@squarespace.com
DTSTAMP:20161024T083022Z
DTSTART:20161031T233000Z
DTEND:20161101T123000Z
SUMMARY:MELBOURNE CUP 
END:VEVENT
END:VCALENDAR
